BEGIN:VCALENDAR
VERSION:1.0
PRODID:Open2CKalenderExportV11
BEGIN:VEVENT
DTSTAMP:20240627T065334Z
DTSTART:20240704T193000Z
DTEND:20240704T220000Z
CATEGORIES:Sitzungen
SUMMARY:Gemeinderatssitzung
DESCRIPTION:Hier können die Tagesordnungspunkte abgerufen werden: TOP
LOCATION:
UID:7820c54c5d37e989c7ec257381153a2f-406ce35f690833057be3c7a13aa422a4
PRIORITY:3
END:VEVENT
BEGIN:VEVENT
DTSTAMP:20240718T073708Z
DTSTART:20240725T193000Z
DTEND:20240725T220000Z
CATEGORIES:Sitzungen
SUMMARY:Gemeinderatssitzung
DESCRIPTION:Hier können die Tagesordnungspunkte abgerufen werden: TOP
LOCATION:
UID:7b2b2e409d39741af5475aa667bb767d-406ce35f690833057be3c7a13aa422a4
PRIORITY:3
END:VEVENT
END:VCALENDAR
