BEGIN:VCALENDAR
VERSION:1.0
PRODID:Open2CKalenderExportV11
BEGIN:VEVENT
DTSTAMP:20240201T110512Z
DTSTART:20240926T193000Z
DTEND:20240926T220000Z
CATEGORIES:Sitzungen
SUMMARY:Gemeinderatssitzung
DESCRIPTION:Hier können die Tagesordnungspunkte abgerufen werden: TOP
LOCATION:
UID:fd5128169806c27a6e3e8faa69877c63-406ce35f690833057be3c7a13aa422a4
PRIORITY:3
END:VEVENT
END:VCALENDAR
