BEGIN:VCALENDAR
VERSION:1.0
PRODID:Open2CKalenderExportV11
BEGIN:VEVENT
DTSTAMP:20241121T145213Z
DTSTART:20241121T193000Z
DTEND:20241121T220000Z
CATEGORIES:Sitzungen
SUMMARY:Gemeinderatssitzung
DESCRIPTION:Hier können die Tagesordnungspunkte abgerufen werden: TOP
LOCATION:
UID:3ec6cebb81c1d11a7a5cd285d367b579-406ce35f690833057be3c7a13aa422a4
PRIORITY:3
END:VEVENT
END:VCALENDAR
