BEGIN:VCALENDAR
VERSION:1.0
PRODID:Open2CKalenderExportV11
BEGIN:VEVENT
DTSTAMP:20250211T075019Z
DTSTART:20250213T193000Z
DTEND:20250213T220000Z
CATEGORIES:Sitzungen
SUMMARY:Gemeinderatssitzung Feb 25
DESCRIPTION:Hier können die Tagesordnungspunkte abgerufen werden: TOP
LOCATION:
UID:aa3faf5241bebe4561f78f418d1ccf1b-10311aa41e1cd57901bdbacb80c2e597
PRIORITY:3
END:VEVENT
END:VCALENDAR
