BEGIN:VCALENDAR
VERSION:1.0
PRODID:Open2CKalenderExportV11
BEGIN:VEVENT
DTSTAMP:20250305T145312Z
DTSTART:20250313T193000Z
DTEND:20250313T220000Z
CATEGORIES:Sitzungen
SUMMARY:Gemeinderatssitzung März 25
DESCRIPTION:Hier können die Tagesordnungspunkte abgerufen werden: TOP
LOCATION:
UID:10263427fdb9340a8b621affe7e7e46a-32d8272067f9cbba0ede1ab399a153b2
PRIORITY:3
END:VEVENT
END:VCALENDAR
