BEGIN:VCALENDAR
VERSION:1.0
PRODID:Open2CKalenderExportV11
BEGIN:VEVENT
DTSTAMP:20250403T061430Z
DTSTART:20250410T193000Z
DTEND:20250410T220000Z
CATEGORIES:Sitzungen
SUMMARY:Gemeinderatssitzung April 25
DESCRIPTION:Hier können die Tagesordnungspunkte abgerufen werden: TOP
LOCATION:
UID:d3debeb9849c389bf9bc854df867e9fb-e054c42b29a08d563df2550518cac32c
PRIORITY:3
END:VEVENT
END:VCALENDAR
