BEGIN:VCALENDAR
VERSION:1.0
PRODID:Open2CKalenderExportV11
BEGIN:VEVENT
DTSTAMP:20250828T070318Z
DTSTART:20250904T190000Z
DTEND:20250904T220000Z
CATEGORIES:Sitzungen
SUMMARY:Gemeinderatssitzung Sep 25
DESCRIPTION:Hier können die Tagesordnungspunkte abgerufen werden: TOP
LOCATION:
UID:abbee154d6cee0c13ba66d97b941fb88-aba7ef4b8f0fcda8511349774b9be5bb
PRIORITY:3
END:VEVENT
BEGIN:VEVENT
DTSTAMP:20250918T123747Z
DTSTART:20250925T193000Z
DTEND:20250925T220000Z
CATEGORIES:Sitzungen
SUMMARY:Gemeinderatssitzung Sep 25 - 1
DESCRIPTION:Hier können die Tagesordnungspunkte abgerufen werden: TOP
LOCATION:
UID:f4b108bdd036e18bf334d5d50ce519bf-5dabbfcf675d0191b9f76af513229ffc
PRIORITY:3
END:VEVENT
END:VCALENDAR
