BEGIN:VCALENDAR
VERSION:1.0
PRODID:Open2CKalenderExportV11
BEGIN:VEVENT
DTSTAMP:20251113T084156Z
DTSTART:20251120T193000Z
DTEND:20251120T220000Z
CATEGORIES:Sitzungen
SUMMARY:Gemeinderatssitzung Nov 25
DESCRIPTION:Hier können die Tagesordnungspunkte abgerufen werden: TOP
LOCATION:
UID:f40965ef50afaad6c1daea537769c643-29c30444cf72499f37770cb34df7d6aa
PRIORITY:3
END:VEVENT
END:VCALENDAR
