BEGIN:VCALENDAR
VERSION:1.0
PRODID:Open2CKalenderExportV11
BEGIN:VEVENT
DTSTAMP:20250702T090843Z
DTSTART:20261008T193000Z
DTEND:20261008T220000Z
CATEGORIES:Sitzungen
SUMMARY:Gemeinderatssitzung Oktober 2026-1
DESCRIPTION:Hier können die Tagesordnungspunkte abgerufen werden: TOP
LOCATION:
UID:3fc204127b5de0d50a9f2eb181a1c31e-b7d325aa4732bb3b512ae16cd10b5115
PRIORITY:3
END:VEVENT
END:VCALENDAR
