BEGIN:VCALENDAR
VERSION:2.0
PRODID:< http://www.open2c.de/ >
METHOD:PUBLISH
X-PUBLISHED-TTL:PT12H
BEGIN:VEVENT
CREATED:20240201T105028Z
LAST-MODIFIED:20240529T060833Z
DTSTAMP:20260426T033203Z
DTSTART:20240606T193000Z
DTEND:20240606T220000Z
CATEGORIES:Sitzungen
SUMMARY:Gemeinderatssitzung
DESCRIPTION:Hier können die Tagesordnungspunkte abgerufen werden: TOP
UID:69fca3985e760b4cbbe8ad43ea6559a8@e83d4b4730608163a1ee99974aa7212e
END:VEVENT
END:VCALENDAR