BEGIN:VCALENDAR
VERSION:2.0
PRODID:< http://www.open2c.de/ >
METHOD:PUBLISH
X-PUBLISHED-TTL:PT12H
BEGIN:VEVENT
CREATED:20240201T105239Z
LAST-MODIFIED:20240822T064353Z
DTSTAMP:20260426T000152Z
DTSTART:20240829T193000Z
DTEND:20240829T220000Z
CATEGORIES:Sitzungen
SUMMARY:Gemeinderatssitzung
DESCRIPTION:Hier können die Tagesordnungspunkte abgerufen werden: TOP
UID:dd5bca6dfd9f3a0bb0a370d77e97516c@e83d4b4730608163a1ee99974aa7212e
END:VEVENT
END:VCALENDAR