BEGIN:VCALENDAR
VERSION:2.0
PRODID:< http://www.open2c.de/ >
METHOD:PUBLISH
X-PUBLISHED-TTL:PT12H
BEGIN:VEVENT
CREATED:20240201T110525Z
LAST-MODIFIED:20240201T110558Z
DTSTAMP:20260425T205649Z
DTSTART:20241024T193000Z
DTEND:20241024T220000Z
CATEGORIES:Sitzungen
SUMMARY:Gemeinderatssitzung
DESCRIPTION:Hier können die Tagesordnungspunkte abgerufen werden: TOP
UID:5cbca8e3ba226e0c986310b01fe979fc@e83d4b4730608163a1ee99974aa7212e
END:VEVENT
END:VCALENDAR