BEGIN:VCALENDAR
VERSION:2.0
PRODID:< http://www.open2c.de/ >
METHOD:PUBLISH
X-PUBLISHED-TTL:PT12H
BEGIN:VEVENT
CREATED:20240201T110647Z
LAST-MODIFIED:20241211T083131Z
DTSTAMP:20260425T171911Z
DTSTART:20241212T193000Z
DTEND:20241212T220000Z
CATEGORIES:Sitzungen
SUMMARY:Gemeinderatssitzung
DESCRIPTION:Hier können die Tagesordnungspunkte abgerufen werden: TOP
UID:0de5f3f5f8aac5a1593d34809fe48e4d@e83d4b4730608163a1ee99974aa7212e
END:VEVENT
END:VCALENDAR