BEGIN:VCALENDAR
VERSION:2.0
PRODID:< http://www.open2c.de/ >
METHOD:PUBLISH
X-PUBLISHED-TTL:PT12H
BEGIN:VEVENT
CREATED:20250211T073235Z
LAST-MODIFIED:20250430T060711Z
DTSTAMP:20260425T102304Z
DTSTART:20250508T193000Z
DTEND:20250508T220000Z
CATEGORIES:Sitzungen
SUMMARY:Gemeinderatssitzung Mai 25
DESCRIPTION:Hier können die Tagesordnungspunkte abgerufen werden: TOP
UID:4184c6e525cd9fc2d41c2e300f8c19e3@e83d4b4730608163a1ee99974aa7212e
END:VEVENT
END:VCALENDAR