BEGIN:VCALENDAR
VERSION:2.0
PRODID:< http://www.open2c.de/ >
METHOD:PUBLISH
X-PUBLISHED-TTL:PT12H
BEGIN:VEVENT
CREATED:20250211T074127Z
LAST-MODIFIED:20251015T074349Z
DTSTAMP:20260423T123041Z
DTSTART:20251023T193000Z
DTEND:20251023T220000Z
CATEGORIES:Sitzungen
SUMMARY:Gemeinderatssitzung Okt 25
DESCRIPTION:Hier können die Tagesordnungspunkte abgerufen werden: TOP
UID:69a35ed09a5b6033e1fc76e289c0e7e8@e83d4b4730608163a1ee99974aa7212e
END:VEVENT
END:VCALENDAR