BEGIN:VCALENDAR
VERSION:2.0
PRODID:< http://www.open2c.de/ >
METHOD:PUBLISH
X-PUBLISHED-TTL:PT12H
BEGIN:VEVENT
CREATED:20250211T074423Z
LAST-MODIFIED:20250211T074500Z
DTSTAMP:20260421T100513Z
DTSTART:20251218T193000Z
DTEND:20251218T220000Z
CATEGORIES:Sitzungen
SUMMARY:Gemeinderatssitzung Dez 25
DESCRIPTION:Hier können die Tagesordnungspunkte abgerufen werden: TOP
UID:39ac4031464ad02fd2e057bfe53c1c37@e83d4b4730608163a1ee99974aa7212e
END:VEVENT
END:VCALENDAR