BEGIN:VCALENDAR
VERSION:2.0
PRODID:< http://www.open2c.de/ >
METHOD:PUBLISH
X-PUBLISHED-TTL:PT12H
BEGIN:VEVENT
CREATED:20250702T084410Z
LAST-MODIFIED:20250703T070338Z
DTSTAMP:20260423T143737Z
DTSTART:20260521T193000Z
DTEND:20260521T220000Z
CATEGORIES:Sitzungen
SUMMARY:Gemeinderatssitzung Mai 2026
DESCRIPTION:Hier können die Tageordnungspunkte abgerufen werden: TOP
UID:5c27a196eff80360d055e6ac85ee3d24@e83d4b4730608163a1ee99974aa7212e
END:VEVENT
END:VCALENDAR