BEGIN:VCALENDAR
VERSION:2.0
PRODID:< http://www.open2c.de/ >
METHOD:PUBLISH
X-PUBLISHED-TTL:PT12H
BEGIN:VEVENT
CREATED:20250702T090902Z
LAST-MODIFIED:20250702T091017Z
DTSTAMP:20260423T140801Z
DTSTART:20261029T193000Z
DTEND:20261029T220000Z
CATEGORIES:Sitzungen
SUMMARY:Gemeinderatssitzung Oktober 2026-2
DESCRIPTION:Hier können die Tagesordnungspunkte abgerufen werden: TOP
UID:60cdae0efe8a7d83aa0be771741150ef@e83d4b4730608163a1ee99974aa7212e
END:VEVENT
END:VCALENDAR