BEGIN:VCALENDAR
VERSION:2.0
PRODID:< http://www.open2c.de/ >
METHOD:PUBLISH
X-PUBLISHED-TTL:PT12H
BEGIN:VEVENT
CREATED:20250702T091105Z
LAST-MODIFIED:20250702T091220Z
DTSTAMP:20260423T141112Z
DTSTART:20261119T193000Z
DTEND:20261119T220000Z
CATEGORIES:Sitzungen
SUMMARY:Gemeinderatssitzung November 2026
DESCRIPTION:Hier können die Tagsordnungspunkte abgerufen werden: TOP
UID:6c95122249b2c369b9841edba8e6eb2b@e83d4b4730608163a1ee99974aa7212e
END:VEVENT
END:VCALENDAR