BEGIN:VCALENDAR
VERSION:2.0
PRODID:< http://www.open2c.de/ >
METHOD:PUBLISH
X-PUBLISHED-TTL:PT12H
BEGIN:VEVENT
CREATED:20250702T091245Z
LAST-MODIFIED:20250702T091355Z
DTSTAMP:20260423T141853Z
DTSTART:20261217T193000Z
DTEND:20261217T220000Z
CATEGORIES:Sitzungen
SUMMARY:Gemeinderatssitzung Dezember 2026
DESCRIPTION:Hier können die Tagesordnungspunkte abgerufen werden: TOP
UID:ec78e26dd1fd25764059551e512ee29b@e83d4b4730608163a1ee99974aa7212e
END:VEVENT
END:VCALENDAR